BEGIN:VCALENDAR
VERSION:2.0
PRODID:-//Gemeinde Markersdorf - ECPv4.9.1//NONSGML v1.0//EN
CALSCALE:GREGORIAN
METHOD:PUBLISH
X-WR-CALNAME:Gemeinde Markersdorf
X-ORIGINAL-URL:https://markersdorf.de
X-WR-CALDESC:Veranstaltungen für Gemeinde Markersdorf
BEGIN:VEVENT
DTSTART;TZID=UTC+2:20250118T163000
DTEND;TZID=UTC+2:20250118T163000
DTSTAMP:20260423T122718
CREATED:20241227T171125Z
LAST-MODIFIED:20241231T162846Z
UID:93565-1737217800-1737217800@markersdorf.de
SUMMARY:Knutfest
DESCRIPTION:Wir laden ein zum „Knutfest“ am Samstag\, den 18.Januar 2025 ab 16:30 Uhr auf dem Gelände der FFw Holtendorf Thomas-Müntzer-Siedlung 2. \nDie FFw Holtendorf und der Ortschaftsrat garantieren wieder in altbewährter Weise ein paar schöne Stunden am Lagerfeuer für Sie\, Ihre Kinder\, Enkel\, Freunde und Nachbarn. Für Speisen und Getränke wird wie immer gesorgt. Jeder\, der einen ausgedienten Weihnachtsbaum mitbringt\, wird mit einem Glühwein belohnt! \nWir freuen uns auf Ihren Besuch. \nFFw. Holtendorf und Ortschaftsrat \n
URL:https://markersdorf.de/event/2025-01-18-knutfest/
LOCATION:Feuerwehrhaus Holtendorf\, Thomas-Müntzer-Straße 2\, Holtendorf\, Sachsen\, 02829\, Deutschland
END:VEVENT
END:VCALENDAR