BEGIN:VCALENDAR
VERSION:2.0
PRODID:-//Gemeinde Markersdorf - ECPv4.9.1//NONSGML v1.0//EN
CALSCALE:GREGORIAN
METHOD:PUBLISH
X-WR-CALNAME:Gemeinde Markersdorf
X-ORIGINAL-URL:https://markersdorf.de
X-WR-CALDESC:Veranstaltungen für Gemeinde Markersdorf
BEGIN:VEVENT
DTSTART;TZID=UTC+2:20250204T163000
DTEND;TZID=UTC+2:20250204T170000
DTSTAMP:20260422T124435
CREATED:20250127T194722Z
LAST-MODIFIED:20250127T194817Z
UID:95058-1738686600-1738688400@markersdorf.de
SUMMARY:Öffentliche Verbandsversammlung des Zweckverbandes „Gewerbegebiet Görlitz - Markersdorf am Hoterberg“
DESCRIPTION:
URL:https://markersdorf.de/event/2025-02-04-oeffentliche-verbandsversammlung-des-zweckverbandes-gewerbegebiet-goerlitz-markersdorf-am-hoterberg/
LOCATION:Rathaus Markersdorf\, Kirchstraße 3\, Markersdorf\, Sachsen\, 02829\, Deutschland
END:VEVENT
END:VCALENDAR