BEGIN:VCALENDAR
VERSION:2.0
PRODID:-//Gemeinde Markersdorf - ECPv4.9.1//NONSGML v1.0//EN
CALSCALE:GREGORIAN
METHOD:PUBLISH
X-WR-CALNAME:Gemeinde Markersdorf
X-ORIGINAL-URL:https://markersdorf.de
X-WR-CALDESC:Veranstaltungen für Gemeinde Markersdorf
BEGIN:VEVENT
DTSTART;TZID=UTC+2:20250430T180000
DTEND;TZID=UTC+2:20250430T180000
DTSTAMP:20260423T141501
CREATED:20250321T212426Z
LAST-MODIFIED:20250321T221837Z
UID:96132-1746036000-1746036000@markersdorf.de
SUMMARY:Maibaumaufstellen und Lampionumzug
DESCRIPTION:
URL:https://markersdorf.de/event/2025-04-30-maibaumaufstellen-und-lampionumzug/
LOCATION:Sportplatz Gersdorf\, Im Oberdorf 32\, Gersdorf\, Sachsen\, 02829\, Deutschland
ORGANIZER;CN="SV%20Gr%C3%BCn-Wei%C3%9F%20Gersdorf%20e.V.":MAILTO:info@svgersdorf.de
END:VEVENT
END:VCALENDAR