BEGIN:VCALENDAR
VERSION:2.0
PRODID:-//Gemeinde Markersdorf - ECPv4.9.1//NONSGML v1.0//EN
CALSCALE:GREGORIAN
METHOD:PUBLISH
X-WR-CALNAME:Gemeinde Markersdorf
X-ORIGINAL-URL:https://markersdorf.de
X-WR-CALDESC:Veranstaltungen für Gemeinde Markersdorf
BEGIN:VEVENT
DTSTART;TZID=UTC+2:20250519T190000
DTEND;TZID=UTC+2:20250519T190000
DTSTAMP:20260422T081516
CREATED:20250422T163351Z
LAST-MODIFIED:20250422T164407Z
UID:96604-1747681200-1747681200@markersdorf.de
SUMMARY:Ortschaftsratsitzung Markersdorf
DESCRIPTION:
URL:https://markersdorf.de/event/2025-05-19-ortschaftsratsitzung-markersdorf/
LOCATION:Feuerwehrhaus Markersdorf\, Am Schöps 85Z\, Markersdorf\, 02829\, Deutschland
END:VEVENT
END:VCALENDAR