BEGIN:VCALENDAR
VERSION:2.0
PRODID:-//Gemeinde Markersdorf - ECPv4.9.1//NONSGML v1.0//EN
CALSCALE:GREGORIAN
METHOD:PUBLISH
X-WR-CALNAME:Gemeinde Markersdorf
X-ORIGINAL-URL:https://markersdorf.de
X-WR-CALDESC:Veranstaltungen für Gemeinde Markersdorf
BEGIN:VEVENT
DTSTART;TZID=UTC+2:20250520T160000
DTEND;TZID=UTC+2:20250520T180000
DTSTAMP:20260422T093920
CREATED:20250422T163355Z
LAST-MODIFIED:20250422T164421Z
UID:96606-1747756800-1747764000@markersdorf.de
SUMMARY:Kinder‑ und Jugendsprechstunde
DESCRIPTION:
URL:https://markersdorf.de/event/2025-05-20-kinder%e2%80%91-und-jugendsprechstunde/
LOCATION:Rathaus Markersdorf\, Kirchstraße 3\, Markersdorf\, Sachsen\, 02829\, Deutschland
END:VEVENT
END:VCALENDAR