BEGIN:VCALENDAR
VERSION:2.0
PRODID:-//Gemeinde Markersdorf - ECPv4.9.1//NONSGML v1.0//EN
CALSCALE:GREGORIAN
METHOD:PUBLISH
X-WR-CALNAME:Gemeinde Markersdorf
X-ORIGINAL-URL:https://markersdorf.de
X-WR-CALDESC:Veranstaltungen für Gemeinde Markersdorf
BEGIN:VEVENT
DTSTART;TZID=UTC+2:20250623T153000
DTEND;TZID=UTC+2:20250623T170000
DTSTAMP:20260423T152239
CREATED:20250520T053331Z
LAST-MODIFIED:20250520T053334Z
UID:97020-1750692600-1750698000@markersdorf.de
SUMMARY:Kinderrat Friedersdorf - Fahrradtour
DESCRIPTION:Welche Ort und Plätze sind in Friedersdorf wichtig für Kinder?\nWir wollen eine Karte erstellen.\nKommt mit Fahrrädern\, Helmen und gern mit Euren Freunden und Verwandten.\nEingeladen sind alle von 6-15 Jahren.  \nFalls uns jemand von den Erwachsenen zusätzlich begleiten möchte\, freuen wir uns sehr. Bitte gebt Bescheid:\nhempel_kinderraete@posteo.de \nWir starten 15:30 Uhr an der Wiese am Pfarrhaus “Christian Knauthe” und radeln los. \n
URL:https://markersdorf.de/event/2025-06-23-kinderrat-friedersdorf-fahrradtour/
LOCATION:Begegnungswiese Friedersdorf
ATTACH;FMTTYPE=image/png:https://markersdorf.de/wp-content/uploads/2025/05/kinderrat_friedersdorf_20250623v2.png
ORGANIZER;CN="AnFangAn%20%20-%20Kinderbeteiligung%20auf%20dem%20Land%20%20Sohland%20lebt%21%20e.V.":MAILTO:hempel_kinderraete@posteo.de
END:VEVENT
END:VCALENDAR