BEGIN:VCALENDAR
VERSION:2.0
PRODID:-//Gemeinde Markersdorf - ECPv4.9.1//NONSGML v1.0//EN
CALSCALE:GREGORIAN
METHOD:PUBLISH
X-WR-CALNAME:Gemeinde Markersdorf
X-ORIGINAL-URL:https://markersdorf.de
X-WR-CALDESC:Veranstaltungen für Gemeinde Markersdorf
BEGIN:VEVENT
DTSTART;TZID=UTC+2:20250702T193000
DTEND;TZID=UTC+2:20250702T193000
DTSTAMP:20260423T135814
CREATED:20250629T092241Z
LAST-MODIFIED:20250629T102253Z
UID:97730-1751484600-1751484600@markersdorf.de
SUMMARY:Ortschaftsratsitzung Friedersdorf
DESCRIPTION:
URL:https://markersdorf.de/event/2025-07-02-ortschaftsratsitzung-friedersdorf/
LOCATION:„91“ in Friedersdorf\, Friedersdorf\, Sachsen\, 02829\, Deutschland
END:VEVENT
END:VCALENDAR