BEGIN:VCALENDAR
VERSION:2.0
PRODID:-//Gemeinde Markersdorf - ECPv4.9.1//NONSGML v1.0//EN
CALSCALE:GREGORIAN
METHOD:PUBLISH
X-WR-CALNAME:Gemeinde Markersdorf
X-ORIGINAL-URL:https://markersdorf.de
X-WR-CALDESC:Veranstaltungen für Gemeinde Markersdorf
BEGIN:VEVENT
DTSTART;TZID=UTC+2:20250704T000000
DTEND;TZID=UTC+2:20250704T000000
DTSTAMP:20260423T135530
CREATED:20241227T171309Z
LAST-MODIFIED:20250524T081748Z
UID:93583-1751587200-1751587200@markersdorf.de
SUMMARY:Dorffest Pfaffendorf
DESCRIPTION:
URL:https://markersdorf.de/event/2025-07-04-dorffest-pfaffendorf/
LOCATION:Schloss Pfaffendorf\, Alte Seite 38\, Pfaffendorf\, 02829\, Deutschland
ATTACH;FMTTYPE=image/jpeg:https://markersdorf.de/wp-content/uploads/2024/12/Screenshot-2025-05-24-101208.jpg
END:VEVENT
END:VCALENDAR