BEGIN:VCALENDAR
VERSION:2.0
PRODID:-//Gemeinde Markersdorf - ECPv4.9.1//NONSGML v1.0//EN
CALSCALE:GREGORIAN
METHOD:PUBLISH
X-WR-CALNAME:Gemeinde Markersdorf
X-ORIGINAL-URL:https://markersdorf.de
X-WR-CALDESC:Veranstaltungen für Gemeinde Markersdorf
BEGIN:VEVENT
DTSTART;TZID=UTC+2:20250904T073000
DTEND;TZID=UTC+2:20250904T170000
DTSTAMP:20260423T135825
CREATED:20250814T144628Z
LAST-MODIFIED:20250814T144630Z
UID:98385-1756971000-1757005200@markersdorf.de
SUMMARY:Tagesausflug in das Hirschberger Tal
DESCRIPTION:Wir treffen uns um 7:30 Uhr auf dem Parkplatz an der Grundschule Markersdorf. \n
URL:https://markersdorf.de/event/2025-09-04-tagesausflug-in-das-hirschberger-tal/
END:VEVENT
END:VCALENDAR