BEGIN:VCALENDAR
VERSION:2.0
PRODID:-//Gemeinde Markersdorf - ECPv4.9.1//NONSGML v1.0//EN
CALSCALE:GREGORIAN
METHOD:PUBLISH
X-WR-CALNAME:Gemeinde Markersdorf
X-ORIGINAL-URL:https://markersdorf.de
X-WR-CALDESC:Veranstaltungen für Gemeinde Markersdorf
BEGIN:VEVENT
DTSTART;TZID=UTC+2:20250904T130000
DTEND;TZID=UTC+2:20250904T170000
DTSTAMP:20260423T151116
CREATED:20250814T144745Z
LAST-MODIFIED:20250814T144746Z
UID:98379-1756990800-1757005200@markersdorf.de
SUMMARY:Wanderung
DESCRIPTION:Wir bilden Fahrgemeinschaften. \nWo geht es hin? Überraschung! Ihr braucht keine Verpflegung einpacken. \n
URL:https://markersdorf.de/event/2025-09-04-wanderung/
LOCATION:Feuerwehrhaus Gersdorf\, Ortsstraße 91\, Gersdorf\, Deutschland
END:VEVENT
END:VCALENDAR