BEGIN:VCALENDAR
VERSION:2.0
PRODID:-//Gemeinde Markersdorf - ECPv4.9.1//NONSGML v1.0//EN
CALSCALE:GREGORIAN
METHOD:PUBLISH
X-WR-CALNAME:Gemeinde Markersdorf
X-ORIGINAL-URL:https://markersdorf.de
X-WR-CALDESC:Veranstaltungen für Gemeinde Markersdorf
BEGIN:VEVENT
DTSTART;TZID=UTC+2:20251110T163000
DTEND;TZID=UTC+2:20251110T170000
DTSTAMP:20260421T002040
CREATED:20251108T101928Z
LAST-MODIFIED:20251108T102343Z
UID:99674-1762792200-1762794000@markersdorf.de
SUMMARY:"Das war AnFangAn"
DESCRIPTION:Ein Treffen für die Arbeitsgruppen Kinder- und Jugendbeteiligung der Gemeinde Markersdorf UND der Stadt Reichenbach. \nWir wollen einen Blick auf die letzten 2 Jahre werfen\, die Arbeit in den und mit den Kinderräten\, die Ideenkonferenzen in Markerdorf (2024) und in Reichenbach (2025) und gemeinsam herausfinden\, was bleibt\, wie geht es weiter\, was braucht Beteiligung der Jüngsten und wie könnte sie weiterhin aussehen? \nEingeladen sind alle Interessierten ab 14 Jahren. Parallel gibt es im Dorfcafé eine Ausstellung über die letzten 2 Projektjahre.  \nMit dabei das Team von AnFangAn: Katja Baller\, Beate Büchner und Elisa Hempel \nFalls sich im Vorhinein Fragen ergeben: hempel_kinderraete@posteo.de \n
URL:https://markersdorf.de/event/2025-11-10-das-war-anfangan/
LOCATION:Dorfcafé Sohland a.R.\, Mittelhof 183\, Sohland a.R.\, 02894
ATTACH;FMTTYPE=image/png:https://markersdorf.de/wp-content/uploads/2025/10/finale_flyer_a5_hohe_aufloesung.png
ORGANIZER;CN="AnFangAn%20%20-%20Kinderbeteiligung%20auf%20dem%20Land%20%20Sohland%20lebt%21%20e.V.":MAILTO:hempel_kinderraete@posteo.de
END:VEVENT
END:VCALENDAR