BEGIN:VCALENDAR
VERSION:2.0
PRODID:-//Gemeinde Markersdorf - ECPv4.9.1//NONSGML v1.0//EN
CALSCALE:GREGORIAN
METHOD:PUBLISH
X-WR-CALNAME:Gemeinde Markersdorf
X-ORIGINAL-URL:https://markersdorf.de
X-WR-CALDESC:Veranstaltungen für Gemeinde Markersdorf
BEGIN:VEVENT
DTSTART;TZID=UTC+2:20251113T190000
DTEND;TZID=UTC+2:20251113T190000
DTSTAMP:20260421T220157
CREATED:20251010T105533Z
LAST-MODIFIED:20251010T105535Z
UID:99384-1763060400-1763060400@markersdorf.de
SUMMARY:Buchlesung
DESCRIPTION:Frauenkreis und Kirchbauverein laden ein zur Buchlesung zum Thema: „So haben sie gelebt\, Gräfin und Graf von Zinzendorf“ \n
URL:https://markersdorf.de/event/2025-11-13-buchlesung/
LOCATION:Friedersdorfer Pfarrhaus\, Friedersdorf\, Sachsen\, 02829\, Deutschland
END:VEVENT
END:VCALENDAR