BEGIN:VCALENDAR
VERSION:2.0
PRODID:-//Gemeinde Markersdorf - ECPv4.9.1//NONSGML v1.0//EN
CALSCALE:GREGORIAN
METHOD:PUBLISH
X-WR-CALNAME:Gemeinde Markersdorf
X-ORIGINAL-URL:https://markersdorf.de
X-WR-CALDESC:Veranstaltungen für Gemeinde Markersdorf
BEGIN:VEVENT
DTSTART;TZID=UTC+2:20251220T000000
DTEND;TZID=UTC+2:20251220T000000
DTSTAMP:20260424T220109
CREATED:20241227T171440Z
LAST-MODIFIED:20241228T112629Z
UID:93610-1766188800-1766188800@markersdorf.de
SUMMARY:Krippenspiel Deutsch-Paulsdorf
DESCRIPTION:
URL:https://markersdorf.de/event/2025-12-20-krippenspiel-deutsch-paulsdorf/
LOCATION:Dorfmuseum Markersdorf\, Kirchstraße 2\, Markersdorf\, 02829
END:VEVENT
END:VCALENDAR