BEGIN:VCALENDAR
VERSION:2.0
PRODID:-//Gemeinde Markersdorf - ECPv4.9.1//NONSGML v1.0//EN
CALSCALE:GREGORIAN
METHOD:PUBLISH
X-WR-CALNAME:Gemeinde Markersdorf
X-ORIGINAL-URL:https://markersdorf.de
X-WR-CALDESC:Veranstaltungen für Gemeinde Markersdorf
BEGIN:VEVENT
DTSTART;TZID=UTC+2:20260114T150000
DTEND;TZID=UTC+2:20260114T170000
DTSTAMP:20260423T133958
CREATED:20251213T082331Z
LAST-MODIFIED:20251213T082332Z
UID:100106-1768402800-1768410000@markersdorf.de
SUMMARY:Kegeln
DESCRIPTION:14.01.2026 um 15:00 Uhr Kegeln in Reichenbach im „KE Kultur Eimer“ \n
URL:https://markersdorf.de/event/2026-01-14-kegeln/
LOCATION:Kultur- und Heimatverein Markersdorf e.V\, Am Mühlberg 9\, Markersdorf\, Sachsen\, 02829\, Deutschland
END:VEVENT
END:VCALENDAR