BEGIN:VCALENDAR
VERSION:2.0
PRODID:-//Gemeinde Markersdorf - ECPv4.9.1//NONSGML v1.0//EN
CALSCALE:GREGORIAN
METHOD:PUBLISH
X-WR-CALNAME:Gemeinde Markersdorf
X-ORIGINAL-URL:https://markersdorf.de
X-WR-CALDESC:Veranstaltungen für Gemeinde Markersdorf
BEGIN:VEVENT
DTSTART;TZID=UTC+2:20260220T183000
DTEND;TZID=UTC+2:20260220T183000
DTSTAMP:20260423T122849
CREATED:20260119T215721Z
LAST-MODIFIED:20260119T215723Z
UID:100449-1771612200-1771612200@markersdorf.de
SUMMARY:Verkehrteilnehmerschulung
DESCRIPTION:Erläuterung neuer Vorschriften\, Fragen und Probleme des Verkehrsrecht \n
URL:https://markersdorf.de/event/2026-02-20-verkehrteilnehmerschulung/
LOCATION:Vereinshaus der FFw Holtendorf 1934 e.V.\, Thomas-Müntzer-Straße 2\, Holtendorf\, Sachsen\, 02829\, Deutschland
END:VEVENT
END:VCALENDAR