BEGIN:VCALENDAR
VERSION:2.0
PRODID:-//Gemeinde Markersdorf - ECPv4.9.1//NONSGML v1.0//EN
CALSCALE:GREGORIAN
METHOD:PUBLISH
X-WR-CALNAME:Gemeinde Markersdorf
X-ORIGINAL-URL:https://markersdorf.de
X-WR-CALDESC:Veranstaltungen für Gemeinde Markersdorf
BEGIN:VEVENT
DTSTART;TZID=UTC+2:20260502T180000
DTEND;TZID=UTC+2:20260502T180000
DTSTAMP:20260422T134810
CREATED:20260422T103405Z
LAST-MODIFIED:20260422T103406Z
UID:101422-1777744800-1777744800@markersdorf.de
SUMMARY:Frühlingskonzert
DESCRIPTION:Herzliche Einladung zum Frühlingskonzert des Markersdorfer Singekreises und ihres Partnerchores aus Ellwangen in der Michaliskirche zu Markersdorf am 02.05.2026 um 18:00 Uhr. Genießen Sie einen Abend voller Musik\, Gemeinschaft und Frühlingsstimmung. Der Eintritt ist frei. Am Ausgang wird herzlich um eine Kollekte gebeten. \n
URL:https://markersdorf.de/event/2026-05-02-fruehlingskonzert/
LOCATION:Kirche Markersdorf\, Markersdorf\, Sachsen\, 02829\, Deutschland
END:VEVENT
END:VCALENDAR