BEGIN:VCALENDAR
VERSION:2.0
PRODID:-//Gemeinde Markersdorf - ECPv4.9.1//NONSGML v1.0//EN
CALSCALE:GREGORIAN
METHOD:PUBLISH
X-WR-CALNAME:Gemeinde Markersdorf
X-ORIGINAL-URL:https://markersdorf.de
X-WR-CALDESC:Veranstaltungen für Gemeinde Markersdorf
BEGIN:VEVENT
DTSTART;TZID=UTC+2:20260506T090000
DTEND;TZID=UTC+2:20260506T170000
DTSTAMP:20260422T134654
CREATED:20260422T103454Z
LAST-MODIFIED:20260422T103455Z
UID:101430-1778058000-1778086800@markersdorf.de
SUMMARY:Nachbarschaftsfrühstück
DESCRIPTION:Mittwoch\, den 06.05.2026; 09:00 Uhr\, Dorfgemeinschaftsraum bei der Feuerwehr Gersdorf\nAnmeldung erforderlich bei Monika Gebhardt bis spätestens Montagabend\, Tel. 01525 9534814 / 60058 \n
URL:https://markersdorf.de/event/2026-05-06-nachbarschaftsfruehstueck/
LOCATION:Dorfgemeinschaftsraum Feuerwehr Gersdorf\, Gersdorf\, Sachsen\, 02829\, Deutschland
END:VEVENT
END:VCALENDAR