BEGIN:VCALENDAR
VERSION:2.0
PRODID:-//Gemeinde Markersdorf - ECPv4.9.1//NONSGML v1.0//EN
CALSCALE:GREGORIAN
METHOD:PUBLISH
X-WR-CALNAME:Gemeinde Markersdorf
X-ORIGINAL-URL:https://markersdorf.de
X-WR-CALDESC:Veranstaltungen für Gemeinde Markersdorf
BEGIN:VEVENT
DTSTART;TZID=UTC+2:20260513T143000
DTEND;TZID=UTC+2:20260513T170000
DTSTAMP:20260422T140600
CREATED:20260422T103553Z
LAST-MODIFIED:20260422T103555Z
UID:101436-1778682600-1778691600@markersdorf.de
SUMMARY:Geselliger Nachmittag
DESCRIPTION:Mittwoch\, den 13.05.2026; 14:30 Uhr\, Dorfgemeinschaftsraum bei der Feuerwehr Gersdorf\nKaffee\, quatschen\, spielen \n
URL:https://markersdorf.de/event/2026-05-13-geselliger-nachmittag/
LOCATION:Dorfgemeinschaftsraum Feuerwehr Gersdorf\, Gersdorf\, Sachsen\, 02829\, Deutschland
END:VEVENT
END:VCALENDAR