BEGIN:VCALENDAR
VERSION:2.0
PRODID:-//Gemeinde Markersdorf - ECPv4.9.1//NONSGML v1.0//EN
CALSCALE:GREGORIAN
METHOD:PUBLISH
X-WR-CALNAME:Gemeinde Markersdorf
X-ORIGINAL-URL:https://markersdorf.de
X-WR-CALDESC:Veranstaltungen für Gemeinde Markersdorf
BEGIN:VEVENT
DTSTART;TZID=UTC+2:20260515T150000
DTEND;TZID=UTC+2:20260515T170000
DTSTAMP:20260422T134810
CREATED:20260422T103716Z
LAST-MODIFIED:20260422T103717Z
UID:101438-1778857200-1778864400@markersdorf.de
SUMMARY:Seniorengeburtstage
DESCRIPTION:Wir feiern Geburtstage!\nFreitag\, 15.05.2026; 15:00 Uhr\, Kunstkaffee Markersdorf\nWir laden alle Senioren von Gersdorf und Deutsch-Paulsdorf zu einem Kaffeenachmittag ein.\nJeweils ein Getränk und Tein Stück Torte/Kuchen trägt der Verein. Bei netten Gesprächen in gemütlicher Atmosphäre wollen wir gemeinsam ein paar Stunden verbringen. Anmeldung ist erforderlich! Wir bilden Fahrgemeinschaften. Für nicht mobile Senioren wird ein Transport nach Markersdorf organisiert. Anmeldung bis spätesten 08. Mai bei Dieter Deutschmann Tel. 61256 und Monika Schneider Tel. 64836 \n
URL:https://markersdorf.de/event/2026-05-15-seniorengeburtstage/
LOCATION:Kunstcafe Markersdorf
END:VEVENT
END:VCALENDAR