BEGIN:VCALENDAR
VERSION:2.0
PRODID:-//Gemeinde Markersdorf - ECPv4.9.1//NONSGML v1.0//EN
CALSCALE:GREGORIAN
METHOD:PUBLISH
X-WR-CALNAME:Gemeinde Markersdorf
X-ORIGINAL-URL:https://markersdorf.de
X-WR-CALDESC:Veranstaltungen für Gemeinde Markersdorf
BEGIN:VEVENT
DTSTART;TZID=UTC+2:20260525T100000
DTEND;TZID=UTC+2:20260525T170000
DTSTAMP:20260422T135042
CREATED:20260422T103819Z
LAST-MODIFIED:20260422T103821Z
UID:101424-1779703200-1779728400@markersdorf.de
SUMMARY:Wanderung nach Deutsch-Paulsdorf
DESCRIPTION:Gemeindeausflug am Pfingstmontag: 1. Treff um 10:00 Uhr an der Gersdorfer Kirche\, anschließend Wanderung nach Deutsch-Paulsdorf; 2.Treff Deutsch-Paulsdorfer Schloss gegen 10:45 Uhr und weitere Wanderung zum Waldhaus. Dort wartet ein kleiner Imbiss. \n
URL:https://markersdorf.de/event/2026-05-25-wanderung-nach-deutsch-paulsdorf/
LOCATION:Kirche Gersdorf
END:VEVENT
END:VCALENDAR