BEGIN:VCALENDAR
VERSION:2.0
PRODID:-//Gemeinde Markersdorf - ECPv4.9.1//NONSGML v1.0//EN
CALSCALE:GREGORIAN
METHOD:PUBLISH
X-WR-CALNAME:Gemeinde Markersdorf
X-ORIGINAL-URL:https://markersdorf.de
X-WR-CALDESC:Veranstaltungen für Gemeinde Markersdorf
BEGIN:VEVENT
DTSTART;TZID=UTC+2:20260527T143000
DTEND;TZID=UTC+2:20260527T170000
DTSTAMP:20260422T135042
CREATED:20260422T103837Z
LAST-MODIFIED:20260422T103839Z
UID:101440-1779892200-1779901200@markersdorf.de
SUMMARY:Geselliger Nachmittag
DESCRIPTION:Mittwoch\, den 27.05.2026; 14:30 Uhr Dorfgemeinschaftsraum bei der Feuerwehr Gersdorf\nKaffee\, quatschen\, spielen \n
URL:https://markersdorf.de/event/2026-05-27-geselliger-nachmittag/
LOCATION:Dorfgemeinschaftsraum Feuerwehr Gersdorf\, Gersdorf\, Sachsen\, 02829\, Deutschland
END:VEVENT
END:VCALENDAR