BEGIN:VCALENDAR
VERSION:2.0
PRODID:-//Gemeinde Markersdorf - ECPv4.9.1//NONSGML v1.0//EN
CALSCALE:GREGORIAN
METHOD:PUBLISH
X-WR-CALNAME:Gemeinde Markersdorf
X-ORIGINAL-URL:https://markersdorf.de
X-WR-CALDESC:Veranstaltungen für Gemeinde Markersdorf
BEGIN:VEVENT
DTSTART;TZID=UTC+2:20231119T103000
DTEND;TZID=UTC+2:20231119T170000
DTSTAMP:20260421T103917
CREATED:20231114T132005Z
LAST-MODIFIED:20231114T133628Z
UID:85399-1700389800-1700413200@markersdorf.de
SUMMARY:Andacht und Ehrung
DESCRIPTION:Am Sonntag\, dem 19.11.2023\, beginnt der Gedenkgottesdienst um 10:30Uhr und im Anschluss findet um 11:15 Uhr am Kriegerdenkmal eine Andacht und Ehrung\, der im zweiten\nWeltkrieg Gefallenen und Vermissten\, sowie eine Blumenniederlegung statt.\nDer Tag soll ein Zeichen der Solidarität derjenigen\, die keinen Verlust zu beklagen hatten\, mit den Hinterbliebenen der Gefallenen sein.\nFreundlicher Weise sorgt der Posaunenchor Friedersdorf für die musikalische Umrahmung.\nZeigen wir mit unserer Teilnahme unsere Anteilnahme. \n
URL:https://markersdorf.de/event/andacht-und-ehrung/
LOCATION:Kriegerdenkmal Gersdorf\, Im Oberdorf 1\, Gersdorf\, Sachsen\, 02829\, Deutschland
ATTACH;FMTTYPE=image/jpeg:https://markersdorf.de/wp-content/uploads/2019/10/Gersdorf-Kriegerdenkmal.jpg
END:VEVENT
END:VCALENDAR