BEGIN:VCALENDAR
VERSION:2.0
PRODID:-//Gemeinde Markersdorf - ECPv4.9.1//NONSGML v1.0//EN
CALSCALE:GREGORIAN
METHOD:PUBLISH
X-WR-CALNAME:Gemeinde Markersdorf
X-ORIGINAL-URL:https://markersdorf.de
X-WR-CALDESC:Veranstaltungen für Gemeinde Markersdorf
BEGIN:VEVENT
DTSTART;TZID=UTC+2:20221201T183000
DTEND;TZID=UTC+2:20221201T183000
DTSTAMP:20260423T025404
CREATED:20221130T120934Z
LAST-MODIFIED:20221130T120934Z
UID:76214-1669919400-1669919400@markersdorf.de
SUMMARY:Ausbildungsplan der Freiwilligen Feuerwehr Friedersdorf
DESCRIPTION:Donnerstag 01.12.22 18:30 Aktuelle Neuigkeiten im Straßenverkehrsrecht Schulungsraum mit F. Model \n
URL:https://markersdorf.de/event/ausbildungsplan-der-freiwilligen-feuerwehr-friedersdorf/
LOCATION:OFW Friedersdorf (Schulungsraum)\, Friedersdorf\, 02829
CATEGORIES:Friedersdorf
ATTACH;FMTTYPE=image/jpeg:https://markersdorf.de/wp-content/uploads/2021/06/00-Top-Feuerwehr-Friedersdorf-HLF10-DSCF2178.jpg
END:VEVENT
END:VCALENDAR