BEGIN:VCALENDAR
VERSION:2.0
PRODID:-//Gemeinde Markersdorf - ECPv4.9.1//NONSGML v1.0//EN
CALSCALE:GREGORIAN
METHOD:PUBLISH
X-WR-CALNAME:Gemeinde Markersdorf
X-ORIGINAL-URL:https://markersdorf.de
X-WR-CALDESC:Veranstaltungen für Gemeinde Markersdorf
BEGIN:VEVENT
DTSTART;TZID=UTC+2:20220914T130000
DTEND;TZID=UTC+2:20220914T130000
DTSTAMP:20260423T034255
CREATED:20220901T103140Z
LAST-MODIFIED:20220901T103140Z
UID:72602-1663160400-1663160400@markersdorf.de
SUMMARY:Ausflug nach Görliwood
DESCRIPTION:Wir als Seniorenverein begeben uns nun im sicher schönsten Spätsommermonat September zu einem erneuten „kleinen“ Ausflug. Es geht mit dem Bus in unsere ganz „nahe Heimat“ – nach Görlitz. Wir wollen den ersten Stopp an der Blauen Lagune des Berzdorfer Sees zur Vesper und zu einem kleinen Spaziergang einlegen\, um anschließend zu einer Stadtrundfahrt zu historischen Stätten und Drehorten von Görliwood aufzubrechen. Das abendliche Ziel ist dann unsere heimatliche Landskronbrauerei\, wo wir eine rustikale Brotzeit erhalten und Bier verkosten können. Natürlich werden auch alkoholfreie Getränke möglich sein. Auf alle Fälle wird dies sicher wieder eine tolle Fahrt\, zu der Ihr Euch noch schnellstmöglich bis zum 3. September bei mir anmelden könnt. \nBleibt gesund und fröhlich und seid herzlich gegrüßt\nim Namen des Vorstandes\nEure Kerstin York \n
URL:https://markersdorf.de/event/ausflug-nach-goerliwood/
LOCATION:Görlitz\, Sachsen\, Deutschland
CATEGORIES:Pfaffendorf
ATTACH;FMTTYPE=image/jpeg:https://markersdorf.de/wp-content/uploads/2021/07/Bus-Ausflug-Skofabus-DSC06502.jpg
END:VEVENT
END:VCALENDAR