BEGIN:VCALENDAR
VERSION:2.0
PRODID:-//Gemeinde Markersdorf - ECPv4.9.1//NONSGML v1.0//EN
CALSCALE:GREGORIAN
METHOD:PUBLISH
X-WR-CALNAME:Gemeinde Markersdorf
X-ORIGINAL-URL:https://markersdorf.de
X-WR-CALDESC:Veranstaltungen für Gemeinde Markersdorf
BEGIN:VEVENT
DTSTART;TZID=UTC+2:20230315T150000
DTEND;TZID=UTC+2:20230315T150000
DTSTAMP:20260423T133231
CREATED:20230228T120417Z
LAST-MODIFIED:20230228T120417Z
UID:80612-1678892400-1678892400@markersdorf.de
SUMMARY:Bürgermeister vor Ort in Holtendorf
DESCRIPTION:Am 15.03.2023 treffen Sie mich im Feuerwehr Haus in Holtendorf. \nIhr Bürgermeister\nSilvio Renger \n
URL:https://markersdorf.de/event/buergermeister-vor-ort-in-holtendorf-4/
LOCATION:Feuerwehrhaus Holtendorf\, Thomas-Müntzer-Straße 2\, Holtendorf\, Sachsen\, 02829\, Deutschland
CATEGORIES:Holtendorf
END:VEVENT
END:VCALENDAR