BEGIN:VCALENDAR
VERSION:2.0
PRODID:-//Gemeinde Markersdorf - ECPv4.9.1//NONSGML v1.0//EN
CALSCALE:GREGORIAN
METHOD:PUBLISH
X-WR-CALNAME:Gemeinde Markersdorf
X-ORIGINAL-URL:https://markersdorf.de
X-WR-CALDESC:Veranstaltungen für Gemeinde Markersdorf
BEGIN:VEVENT
DTSTART;TZID=UTC+2:20240607T170000
DTEND;TZID=UTC+2:20240607T210000
DTSTAMP:20260423T100141
CREATED:20240527T091546Z
LAST-MODIFIED:20240527T093634Z
UID:89184-1717779600-1717794000@markersdorf.de
SUMMARY:Fahrt zum Sommertheater Bautzen
DESCRIPTION:Abfahrt Parkplatz Grundschule Markersdorf \n
URL:https://markersdorf.de/event/fahrt-zum-sommertheater-bautzen/
LOCATION:Grundschule Markersdorf.\, Kirchstraße 49\, Markersdorf\, 02829\, Deutschland
END:VEVENT
END:VCALENDAR