BEGIN:VCALENDAR
VERSION:2.0
PRODID:-//Gemeinde Markersdorf - ECPv4.9.1//NONSGML v1.0//EN
CALSCALE:GREGORIAN
METHOD:PUBLISH
X-WR-CALNAME:Gemeinde Markersdorf
X-ORIGINAL-URL:https://markersdorf.de
X-WR-CALDESC:Veranstaltungen für Gemeinde Markersdorf
BEGIN:VEVENT
DTSTART;TZID=UTC+2:20240728T150000
DTEND;TZID=UTC+2:20240728T150000
DTSTAMP:20260421T085739
CREATED:20240702T200534Z
LAST-MODIFIED:20240703T061444Z
UID:90018-1722178800-1722178800@markersdorf.de
SUMMARY:Flagdancegroup Symbolica
DESCRIPTION:
URL:https://markersdorf.de/event/flagdancegroup-symbolica/
LOCATION:Dorfmuseum Markersdorf\, Kirchstraße 2\, Markersdorf\, 02829
ATTACH;FMTTYPE=image/jpeg:https://markersdorf.de/wp-content/uploads/2024/07/Screenshot-2024-07-02-220119.jpg
END:VEVENT
END:VCALENDAR