BEGIN:VCALENDAR
VERSION:2.0
PRODID:-//Gemeinde Markersdorf - ECPv4.9.1//NONSGML v1.0//EN
CALSCALE:GREGORIAN
METHOD:PUBLISH
X-WR-CALNAME:Gemeinde Markersdorf
X-ORIGINAL-URL:https://markersdorf.de
X-WR-CALDESC:Veranstaltungen für Gemeinde Markersdorf
BEGIN:VEVENT
DTSTART;TZID=UTC+2:20230705T180000
DTEND;TZID=UTC+2:20230705T180000
DTSTAMP:20260425T040331
CREATED:20230626T131535Z
LAST-MODIFIED:20230626T131535Z
UID:83020-1688580000-1688580000@markersdorf.de
SUMMARY:Infoveranstaltung Gebäudeenergiegesetz
DESCRIPTION:
URL:https://markersdorf.de/event/infoveranstaltung-gebaeudeenergiegesetz/
LOCATION:Saal Agrargenossenschaft\, Sachsen\, 02829\, Deutschland
CATEGORIES:Markersdorf
END:VEVENT
END:VCALENDAR