BEGIN:VCALENDAR
VERSION:2.0
PRODID:-//Gemeinde Markersdorf - ECPv4.9.1//NONSGML v1.0//EN
CALSCALE:GREGORIAN
METHOD:PUBLISH
X-WR-CALNAME:Gemeinde Markersdorf
X-ORIGINAL-URL:https://markersdorf.de
X-WR-CALDESC:Veranstaltungen für Gemeinde Markersdorf
BEGIN:VEVENT
DTSTART;TZID=UTC+2:20240306T143000
DTEND;TZID=UTC+2:20240306T170000
DTSTAMP:20260421T070147
CREATED:20240229T205838Z
LAST-MODIFIED:20240229T205838Z
UID:87305-1709735400-1709744400@markersdorf.de
SUMMARY:Mitgliederversammlung
DESCRIPTION:
URL:https://markersdorf.de/event/mitgliederversammlung-2/
LOCATION:Schloss Pfaffendorf\, Alte Seite 38\, Pfaffendorf\, 02829\, Deutschland
END:VEVENT
END:VCALENDAR