BEGIN:VCALENDAR
VERSION:2.0
PRODID:-//Gemeinde Markersdorf - ECPv4.9.1//NONSGML v1.0//EN
CALSCALE:GREGORIAN
METHOD:PUBLISH
X-WR-CALNAME:Gemeinde Markersdorf
X-ORIGINAL-URL:https://markersdorf.de
X-WR-CALDESC:Veranstaltungen für Gemeinde Markersdorf
BEGIN:VEVENT
DTSTART;TZID=UTC+2:20230201T090000
DTEND;TZID=UTC+2:20230201T090000
DTSTAMP:20260422T082533
CREATED:20230123T134357Z
LAST-MODIFIED:20230123T134557Z
UID:78950-1675242000-1675242000@markersdorf.de
SUMMARY:Gemeinsames Frühstück für Nachbarn
DESCRIPTION:Liebe Seniorinnen und Senioren der Ortsteile Gersdorf/Deutsch-Paulsdorf\,\nunser Nachbarschaftsfrühstück im Februar findet wieder im Dorfgemeinschaftsraum der Feuerwehr statt. \nDazu sind sie herzlich eingeladen. \nIhr Vorstand\nD. Deutschmann \n
URL:https://markersdorf.de/event/nachbarschaftsfruehstueck-3/
LOCATION:Dorfgemeinschaftsraum Feuerwehr Gersdorf\, Gersdorf\, Sachsen\, 02829\, Deutschland
CATEGORIES:Deutsch-Paulsdorf,Gersdorf
END:VEVENT
END:VCALENDAR