BEGIN:VCALENDAR
VERSION:2.0
PRODID:-//Gemeinde Markersdorf - ECPv4.9.1//NONSGML v1.0//EN
CALSCALE:GREGORIAN
METHOD:PUBLISH
X-WR-CALNAME:Gemeinde Markersdorf
X-ORIGINAL-URL:https://markersdorf.de
X-WR-CALDESC:Veranstaltungen für Gemeinde Markersdorf
BEGIN:VEVENT
DTSTART;TZID=UTC+2:20250105T160000
DTEND;TZID=UTC+2:20250105T170000
DTSTAMP:20260425T002708
CREATED:20241114T115519Z
LAST-MODIFIED:20241114T115803Z
UID:92972-1736092800-1736096400@markersdorf.de
SUMMARY:Neujahrskonzertes des Landkreises Görlitz 2025
DESCRIPTION:Das traditionelle Neujahrskonzert des Landkreises Görlitz findet am Sonntag\, dem 5. Januar 2025 um 16 Uhr im Nieskyer Bürgerhaus statt. Landrat Dr. Stephan Meyer lädt die Bürgerinnen und Bürger des Landkreises herzlich ein\, gemeinsam das neue Jahr musikalisch zu begrüßen. \nDie Neue Lausitzer Philharmonie spielt unter Leitung von GMD Roman Brogli-Sacher ihr 3. Philharmonisches Konzert mit dem Titel „Gold\, Silber und drei Groschen“. Gespielt werden Werke von Kurt Weill\, Mieczysław Weinberg\, Johann Strauss Sohn und Franz Lehár. Als Solist ist Lennard Czakaj an der Trompete zu erleben. \nKarten (21 Euro) gibt es im Vorverkauf im Bürgerhaus Niesky (Mo. – Do. 10-17 Uhr\, Fr. 10-16 Uhr). \n
URL:https://markersdorf.de/event/neujahrskonzertes-des-landkreises-goerlitz-2025/
LOCATION:Nieskyer Bürgerhaus\, Muskauer Straße 31 und 35\, Niesky\, Sachsen\, 02906\, Deutschland
ATTACH;FMTTYPE=image/jpeg:https://markersdorf.de/wp-content/uploads/2024/11/share-pic-neujahrskonzert-landkreis-goerlitz.jpg
END:VEVENT
END:VCALENDAR