BEGIN:VCALENDAR
VERSION:2.0
PRODID:-//Gemeinde Markersdorf - ECPv4.9.1//NONSGML v1.0//EN
CALSCALE:GREGORIAN
METHOD:PUBLISH
X-WR-CALNAME:Gemeinde Markersdorf
X-ORIGINAL-URL:https://markersdorf.de
X-WR-CALDESC:Veranstaltungen für Gemeinde Markersdorf
BEGIN:VEVENT
DTSTART;TZID=UTC+2:20230316T183000
DTEND;TZID=UTC+2:20230316T203000
DTSTAMP:20260423T150242
CREATED:20230309T204401Z
LAST-MODIFIED:20230309T204401Z
UID:80892-1678991400-1678998600@markersdorf.de
SUMMARY:Öffentliche Tagung des Gemeinderates
DESCRIPTION:Einladungsschreiben:\nGV Markersdorf_20230309_161912 \n
URL:https://markersdorf.de/event/oeffentliche-tagung-des-gemeinderates-12/
LOCATION:Rathaus Markersdorf\, Kirchstraße 3\, Markersdorf\, Sachsen\, 02829\, Deutschland
CATEGORIES:Gemeinderat
END:VEVENT
END:VCALENDAR