BEGIN:VCALENDAR
VERSION:2.0
PRODID:-//Gemeinde Markersdorf - ECPv4.9.1//NONSGML v1.0//EN
CALSCALE:GREGORIAN
METHOD:PUBLISH
X-WR-CALNAME:Gemeinde Markersdorf
X-ORIGINAL-URL:https://markersdorf.de
X-WR-CALDESC:Veranstaltungen für Gemeinde Markersdorf
BEGIN:VEVENT
DTSTART;TZID=UTC+2:20240605T190000
DTEND;TZID=UTC+2:20240605T190000
DTSTAMP:20260423T074928
CREATED:20240527T120911Z
LAST-MODIFIED:20240527T121148Z
UID:89261-1717614000-1717614000@markersdorf.de
SUMMARY:Ortschaftsratssitzung Gersdorf
DESCRIPTION:
URL:https://markersdorf.de/event/ortschaftsratssitzung-gersdorf-9/
LOCATION:Dorfgemeinschaftsraum Feuerwehr Gersdorf\, Gersdorf\, Sachsen\, 02829\, Deutschland
END:VEVENT
END:VCALENDAR