BEGIN:VCALENDAR
VERSION:2.0
PRODID:-//Gemeinde Markersdorf - ECPv4.9.1//NONSGML v1.0//EN
CALSCALE:GREGORIAN
METHOD:PUBLISH
X-WR-CALNAME:Gemeinde Markersdorf
X-ORIGINAL-URL:https://markersdorf.de
X-WR-CALDESC:Veranstaltungen für Gemeinde Markersdorf
BEGIN:VEVENT
DTSTART;TZID=UTC+2:20230301T190000
DTEND;TZID=UTC+2:20230301T190000
DTSTAMP:20260421T082719
CREATED:20230228T132008Z
LAST-MODIFIED:20230228T132120Z
UID:80628-1677697200-1677697200@markersdorf.de
SUMMARY:Ortschaftsratssitzung in Gersdorf
DESCRIPTION:Der Ortschaftsrat Gersdorf lädt herzlich alle interessierten Einwohner zur Ortschaftsratssitzung ein. \n
URL:https://markersdorf.de/event/ortschaftsratssitzung-in-gersdorf/
LOCATION:Dorfgemeinschaftsraum Feuerwehr Gersdorf\, Gersdorf\, Sachsen\, 02829\, Deutschland
CATEGORIES:Gersdorf
END:VEVENT
END:VCALENDAR