BEGIN:VCALENDAR
VERSION:2.0
PRODID:-//Gemeinde Markersdorf - ECPv4.9.1//NONSGML v1.0//EN
CALSCALE:GREGORIAN
METHOD:PUBLISH
X-WR-CALNAME:Gemeinde Markersdorf
X-ORIGINAL-URL:https://markersdorf.de
X-WR-CALDESC:Veranstaltungen für Gemeinde Markersdorf
BEGIN:VEVENT
DTSTART;TZID=UTC+2:20230308T193000
DTEND;TZID=UTC+2:20230308T193000
DTSTAMP:20260423T122757
CREATED:20230228T133251Z
LAST-MODIFIED:20230228T133251Z
UID:80637-1678303800-1678303800@markersdorf.de
SUMMARY:Ortschaftsratssitzung in Holtendorf
DESCRIPTION:Der Ortschaftsrat Friedersdorf lädt herzlich alle interessierten Einwohner zur Ortschaftsratssitzung ein. \n
URL:https://markersdorf.de/event/ortschaftsratssitzung-in-holtendorf/
LOCATION:Vereinshaus der FFw Holtendorf 1934 e.V.\, Thomas-Müntzer-Straße 2\, Holtendorf\, Sachsen\, 02829\, Deutschland
CATEGORIES:Holtendorf
END:VEVENT
END:VCALENDAR