BEGIN:VCALENDAR
VERSION:2.0
PRODID:-//Gemeinde Markersdorf - ECPv4.9.1//NONSGML v1.0//EN
CALSCALE:GREGORIAN
METHOD:PUBLISH
X-WR-CALNAME:Gemeinde Markersdorf
X-ORIGINAL-URL:https://markersdorf.de
X-WR-CALDESC:Veranstaltungen für Gemeinde Markersdorf
BEGIN:VEVENT
DTSTART;TZID=UTC+2:20230406T183000
DTEND;TZID=UTC+2:20230406T183000
DTSTAMP:20260423T133935
CREATED:20230327T090031Z
LAST-MODIFIED:20230327T090031Z
UID:81247-1680805800-1680805800@markersdorf.de
SUMMARY:Ortsvorstehersitzung in Markersdorf
DESCRIPTION:Am 06.06.2023 findet in Friedersdorf die Ortsvorstehersitzung statt. \n
URL:https://markersdorf.de/event/ortsvorstehersitzung-in-markersdorf/
LOCATION:Ortschaftsrat Friedersdorf\, Sachsen\, 02829\, Deutschland
CATEGORIES:Friedersdorf
END:VEVENT
END:VCALENDAR